BEGIN:VCALENDAR
VERSION:2.0
PRODID:-//CCAR Convention 2012 • Boston, MA - ECPv6.6.4.2//NONSGML v1.0//EN
CALSCALE:GREGORIAN
METHOD:PUBLISH
X-ORIGINAL-URL:http://boston.ccarnet.org
X-WR-CALDESC:Events for CCAR Convention 2012 • Boston, MA
REFRESH-INTERVAL;VALUE=DURATION:PT1H
X-Robots-Tag:noindex
X-PUBLISHED-TTL:PT1H
BEGIN:VTIMEZONE
TZID:America/Halifax
BEGIN:DAYLIGHT
TZOFFSETFROM:-0400
TZOFFSETTO:-0300
TZNAME:ADT
DTSTART:20120311T060000
END:DAYLIGHT
BEGIN:STANDARD
TZOFFSETFROM:-0300
TZOFFSETTO:-0400
TZNAME:AST
DTSTART:20121104T050000
END:STANDARD
END:VTIMEZONE
BEGIN:VEVENT
DTSTART;TZID=America/Halifax:20120321T230000
DTEND;TZID=America/Halifax:20120321T235559
DTSTAMP:20260419T091712
CREATED:20120223T165942Z
LAST-MODIFIED:20120314T174608Z
UID:526-1332370800-1332374159@boston.ccarnet.org
SUMMARY:Friends of Bill W.
DESCRIPTION:
URL:http://boston.ccarnet.org/event/friends-of-bill-w-4/
LOCATION:Beacon D Room
CATEGORIES:Programming,Wednesday, March 21st
END:VEVENT
BEGIN:VEVENT
DTSTART;TZID=America/Halifax:20120321T180000
DTEND;TZID=America/Halifax:20120321T200059
DTSTAMP:20260419T091712
CREATED:20120223T165544Z
LAST-MODIFIED:20120223T165544Z
UID:516-1332352800-1332360059@boston.ccarnet.org
SUMMARY:Think Tank for Reform Judaism
DESCRIPTION:Closed Meeting
URL:http://boston.ccarnet.org/event/think-tank-for-reform-judaism/
CATEGORIES:Programming,Wednesday, March 21st
END:VEVENT
BEGIN:VEVENT
DTSTART;TZID=America/Halifax:20120321T124500
DTEND;TZID=America/Halifax:20120321T134559
DTSTAMP:20260419T091712
CREATED:20120224T190518Z
LAST-MODIFIED:20120306T185528Z
UID:622-1332333900-1332337559@boston.ccarnet.org
SUMMARY:Meeting with Rick Jacobs
DESCRIPTION:Join with our colleague Rick Jacobs to talk about the URJ and engaging Jews in the 21st Century.  Dessert will be served. \nSponsored by URJ Camp and Israel Programs
URL:http://boston.ccarnet.org/event/meeting-with-rick-jacobs/
LOCATION:Republic Ballroom
CATEGORIES:Programming,Wednesday, March 21st
END:VEVENT
BEGIN:VEVENT
DTSTART;TZID=America/Halifax:20120321T121500
DTEND;TZID=America/Halifax:20120321T153059
DTSTAMP:20260419T091712
CREATED:20120213T165732Z
LAST-MODIFIED:20120318T143027Z
UID:367-1332332100-1332343859@boston.ccarnet.org
SUMMARY:A Visit to Mayyim Hayyim
DESCRIPTION:Pre-registration is required. Session is capped at 35 participants.  There is no cost to this trip. Come for an up-close look at this local institution that has transformed the ancient ritual of mikveh for contemporary use. Learn from Mayyim Hayyim staff and volunteers about how the ritual is being used by clergy in their own spiritual practice and to support their congregants. Tour the facility and see how Mayyim Hayyim’s Mission and Principles are being expressed through intentional design and thoughtful practice to make mikveh accessible and meaningful for the full diversity of the Jewish people.
URL:http://boston.ccarnet.org/event/a-visit-to-mayyim-hayyim/
LOCATION:Mayyim Hayyim\, 1838 Washington Street\, Newton\, MA\, 02466\, United States
CATEGORIES:Off-site Sessions,Programming,Wednesday, March 21st
END:VEVENT
BEGIN:VEVENT
DTSTART;TZID=America/Halifax:20120320T230000
DTEND;TZID=America/Halifax:20120320T235559
DTSTAMP:20260419T091712
CREATED:20120223T164801Z
LAST-MODIFIED:20120227T051114Z
UID:505-1332284400-1332287759@boston.ccarnet.org
SUMMARY:Friends of Bill W.
DESCRIPTION:
URL:http://boston.ccarnet.org/event/friends-of-bill-w-3/
LOCATION:Beacon A Room
CATEGORIES:Programming,Tuesday, March 20th
END:VEVENT
BEGIN:VEVENT
DTSTART;TZID=America/Halifax:20120320T103000
DTEND;TZID=America/Halifax:20120320T131559
DTSTAMP:20260419T091712
CREATED:20120211T214512Z
LAST-MODIFIED:20120318T142619Z
UID:326-1332239400-1332249359@boston.ccarnet.org
SUMMARY:Resilience in Rabbinic Work
DESCRIPTION:Steven A. Fox and Deborah Prinz \nFor CCAR Coaches and Consultants Working with Rabbis\nClosed Meeting
URL:http://boston.ccarnet.org/event/coaches-and-consultants-meeting/
CATEGORIES:Programming,Tuesday, March 20th
END:VEVENT
BEGIN:VEVENT
DTSTART;TZID=America/Halifax:20120320T083000
DTEND;TZID=America/Halifax:20120320T093059
DTSTAMP:20260419T091712
CREATED:20120227T034826Z
LAST-MODIFIED:20120308T172423Z
UID:737-1332232200-1332235859@boston.ccarnet.org
SUMMARY:Building an Inclusive\, Democratic Israeli Society
DESCRIPTION:Building an Inclusive\, Democratic\, Israeli Society\n\nDr. Manuel Trajtenberg\nProfessor Manuel Trajtenberg\, Professor of Economics at Tel Aviv University since 1984\, is one of the worlds leading experts on Research and Development and innovation in society with a strong concentration on economics. He headed the government committee that formulated a response to last summer’s “tentifada ” social protests. He is a proud and active member of Beit Daniel in Tel Aviv. His appearance at the CCAR has been made possible by ARZA\, The Reform Israel Fund.\n\nKeter Torah: 1 hour
URL:http://boston.ccarnet.org/event/building-an-inclusive-democratic-israeli-society/
LOCATION:Grand Ballroom
CATEGORIES:Learning,Major Programming,Programming
END:VEVENT
BEGIN:VEVENT
DTSTART;TZID=America/Halifax:20120320T070000
DTEND;TZID=America/Halifax:20120320T073059
DTSTAMP:20260419T091712
CREATED:20120208T031830Z
LAST-MODIFIED:20120307T174311Z
UID:220-1332226800-1332228659@boston.ccarnet.org
SUMMARY:Yoga Shalom: The Embodiment of Prayer
DESCRIPTION:What’s Jewish about yoga? Explore this unique worship experience that combines yoga\, prayer\, chanting\, meditation and music and learn how to bring the experience home for yourself and your congregation.  Yoga Shalom is for people of all physical abilities and can be done sitting in a chair. It stills the mind\, opens the heart and nurtures the spirit. Participants should wear comfortable clothing\, bring a yoga mat or towel and a bottle of water.
URL:http://boston.ccarnet.org/event/yoga-shalom-the-embodiment-of-prayer/
LOCATION:Fairfax Room
CATEGORIES:Programming,T'filah,Tuesday, March 20th
END:VEVENT
BEGIN:VEVENT
DTSTART;TZID=America/Halifax:20120319T230000
DTEND;TZID=America/Halifax:20120319T234559
DTSTAMP:20260419T091712
CREATED:20120208T031707Z
LAST-MODIFIED:20120228T025949Z
UID:219-1332198000-1332200759@boston.ccarnet.org
SUMMARY:Friends of Bill W.
DESCRIPTION:
URL:http://boston.ccarnet.org/event/friends-of-bill-w-2/
LOCATION:Beacon A Room
CATEGORIES:Monday, March 19th,Programming
END:VEVENT
BEGIN:VEVENT
DTSTART;TZID=America/Halifax:20120318T230000
DTEND;TZID=America/Halifax:20120318T235059
DTSTAMP:20260419T091712
CREATED:20120202T202404Z
LAST-MODIFIED:20120226T235526Z
UID:128-1332111600-1332114659@boston.ccarnet.org
SUMMARY:Friends of Bill W.
DESCRIPTION:
URL:http://boston.ccarnet.org/event/friends-of-bill-w/
LOCATION:Beacon A Room
CATEGORIES:Programming,Sunday, March 18th
END:VEVENT
END:VCALENDAR