BEGIN:VCALENDAR
VERSION:2.0
PRODID:-//CCAR Convention 2012 • Boston, MA - ECPv6.6.4.2//NONSGML v1.0//EN
CALSCALE:GREGORIAN
METHOD:PUBLISH
X-WR-CALNAME:CCAR Convention 2012 • Boston, MA
X-ORIGINAL-URL:http://boston.ccarnet.org
X-WR-CALDESC:Events for CCAR Convention 2012 • Boston, MA
REFRESH-INTERVAL;VALUE=DURATION:PT1H
X-Robots-Tag:noindex
X-PUBLISHED-TTL:PT1H
BEGIN:VTIMEZONE
TZID:America/Halifax
BEGIN:DAYLIGHT
TZOFFSETFROM:-0400
TZOFFSETTO:-0300
TZNAME:ADT
DTSTART:20120311T060000
END:DAYLIGHT
BEGIN:STANDARD
TZOFFSETFROM:-0300
TZOFFSETTO:-0400
TZNAME:AST
DTSTART:20121104T050000
END:STANDARD
END:VTIMEZONE
BEGIN:VEVENT
DTSTART;TZID=America/Halifax:20120320T170000
DTEND;TZID=America/Halifax:20120320T181559
DTSTAMP:20260419T141417
CREATED:20120212T011810Z
LAST-MODIFIED:20120307T175348Z
UID:357-1332262800-1332267359@boston.ccarnet.org
SUMMARY:Finding Our Way to the God of Torah
DESCRIPTION:Rachel Timoner \nLightning on the mountain. Plagues as punishment. War and bloodshed. The God of Torah can be difficult to relate to\, even alienating\, for our congregants\, and for us. How might we connect our own spiritual practices and beliefs with this God? Join with Rabbi Rachel Timoner of Leo Baeck Temple in Los Angeles and author of Breath of Life: God as Spirit in Judaism\, as she takes you on a journey through Torah to find a new look at the God within the scroll. Tracing ruach through its 378 appearances in Tanach\, Timoner finds that God shows up as ruach while creating the world\, endowing humans with understanding\, and urging us to redeem our world. Be part of this conversation and discover a God you just might relate to.
URL:http://boston.ccarnet.org/event/finding-our-way-to-the-god-of-torah/
LOCATION:Berkeley Room
CATEGORIES:Learning Block 3,TL 3,Torah Lishmah,Tuesday, March 20th
END:VEVENT
BEGIN:VEVENT
DTSTART;TZID=America/Halifax:20120320T170000
DTEND;TZID=America/Halifax:20120320T181559
DTSTAMP:20260419T141417
CREATED:20120212T011702Z
LAST-MODIFIED:20120309T202549Z
UID:356-1332262800-1332267359@boston.ccarnet.org
SUMMARY:The Three Themes of the Shofar Service and Their Reverberations Throughout the Days of Awe
DESCRIPTION:Peter Berg\, Eddie Goldberg\, Janet Marder\, Shelly Marder\, Leon Morris\, Elaine Zecher\n\nSince Rosh HaShanah is called Yom Truah\, how does the structure of the shofar service and the use of the shofar help aid in our Rosh HaShanah experience? Together\, we will study the text in depth what is being included in the new machzor and what impact these themes have on the Rosh HaShanah morning experience.
URL:http://boston.ccarnet.org/event/the-three-themes-of-the-shofar-service-and-their-reverberations-throughout-the-days-of-awe/
LOCATION:Hampton Room
CATEGORIES:Learning Block 3,TL 3,Torah Lishmah,Tuesday, March 20th
END:VEVENT
END:VCALENDAR