BEGIN:VCALENDAR
VERSION:2.0
PRODID:-//CCAR Convention 2012 • Boston, MA - ECPv6.6.4.2//NONSGML v1.0//EN
CALSCALE:GREGORIAN
METHOD:PUBLISH
X-ORIGINAL-URL:http://boston.ccarnet.org
X-WR-CALDESC:Events for CCAR Convention 2012 • Boston, MA
REFRESH-INTERVAL;VALUE=DURATION:PT1H
X-Robots-Tag:noindex
X-PUBLISHED-TTL:PT1H
BEGIN:VTIMEZONE
TZID:America/Halifax
BEGIN:DAYLIGHT
TZOFFSETFROM:-0400
TZOFFSETTO:-0300
TZNAME:ADT
DTSTART:20120311T060000
END:DAYLIGHT
BEGIN:STANDARD
TZOFFSETFROM:-0300
TZOFFSETTO:-0400
TZNAME:AST
DTSTART:20121104T050000
END:STANDARD
END:VTIMEZONE
BEGIN:VEVENT
DTSTART;TZID=America/Halifax:20120320T170000
DTEND;TZID=America/Halifax:20120320T181559
DTSTAMP:20260419T111019
CREATED:20120212T011810Z
LAST-MODIFIED:20120307T175348Z
UID:357-1332262800-1332267359@boston.ccarnet.org
SUMMARY:Finding Our Way to the God of Torah
DESCRIPTION:Rachel Timoner \nLightning on the mountain. Plagues as punishment. War and bloodshed. The God of Torah can be difficult to relate to\, even alienating\, for our congregants\, and for us. How might we connect our own spiritual practices and beliefs with this God? Join with Rabbi Rachel Timoner of Leo Baeck Temple in Los Angeles and author of Breath of Life: God as Spirit in Judaism\, as she takes you on a journey through Torah to find a new look at the God within the scroll. Tracing ruach through its 378 appearances in Tanach\, Timoner finds that God shows up as ruach while creating the world\, endowing humans with understanding\, and urging us to redeem our world. Be part of this conversation and discover a God you just might relate to.
URL:http://boston.ccarnet.org/event/finding-our-way-to-the-god-of-torah/
LOCATION:Berkeley Room
CATEGORIES:Learning Block 3,TL 3,Torah Lishmah,Tuesday, March 20th
END:VEVENT
BEGIN:VEVENT
DTSTART;TZID=America/Halifax:20120320T170000
DTEND;TZID=America/Halifax:20120320T181559
DTSTAMP:20260419T111019
CREATED:20120212T011702Z
LAST-MODIFIED:20120309T202549Z
UID:356-1332262800-1332267359@boston.ccarnet.org
SUMMARY:The Three Themes of the Shofar Service and Their Reverberations Throughout the Days of Awe
DESCRIPTION:Peter Berg\, Eddie Goldberg\, Janet Marder\, Shelly Marder\, Leon Morris\, Elaine Zecher\n\nSince Rosh HaShanah is called Yom Truah\, how does the structure of the shofar service and the use of the shofar help aid in our Rosh HaShanah experience? Together\, we will study the text in depth what is being included in the new machzor and what impact these themes have on the Rosh HaShanah morning experience.
URL:http://boston.ccarnet.org/event/the-three-themes-of-the-shofar-service-and-their-reverberations-throughout-the-days-of-awe/
LOCATION:Hampton Room
CATEGORIES:Learning Block 3,TL 3,Torah Lishmah,Tuesday, March 20th
END:VEVENT
BEGIN:VEVENT
DTSTART;TZID=America/Halifax:20120320T170000
DTEND;TZID=America/Halifax:20120320T181559
DTSTAMP:20260419T111019
CREATED:20120212T011459Z
LAST-MODIFIED:20120307T175156Z
UID:354-1332262800-1332267359@boston.ccarnet.org
SUMMARY:Opening the Gates to Bar and Bat Mitzvah
DESCRIPTION:Arlene Remz \nFor the past eight years\, Gateways: Access to Jewish Education\, Boston’s central address for Jewish special education\, has prepared dozens of youngsters with disabilities for Bar and Bat Mitzvah. Young adults have been able to enjoy the Jewish rite-of-passage that only a few short years ago would likely have been denied them. This presentation will take you through several of our “gates” to becoming Bar or Bat Mitzvah–from students with autism who learn to read Hebrew and chant from the Torah using a specialized multi-sensory approach\, to students who are non-verbal who recite the blessings by activating a computer\, to students who are deaf and sign both the prayers and D’var Torah. Learn ways to work with special needs children\, so that each child will celebrate his or her Bar or Bat Mitzvah “each according to their way.”
URL:http://boston.ccarnet.org/event/opening-the-gates-to-bar-and-bat-mitzvah/
LOCATION:Jefferson Room
CATEGORIES:Learning Block 3,PD 3,Professional Development,Tuesday, March 20th
END:VEVENT
BEGIN:VEVENT
DTSTART;TZID=America/Halifax:20120320T170000
DTEND;TZID=America/Halifax:20120320T181559
DTSTAMP:20260419T111019
CREATED:20120212T011301Z
LAST-MODIFIED:20120309T212256Z
UID:353-1332262800-1332267359@boston.ccarnet.org
SUMMARY:Leading With\, and Not Alone: Community Organizing and “Relational Power”
DESCRIPTION:Lila Foldes\, Stephanie Kolin\n\nTransforming the culture of our communities\, leading effectively in social justice\, engaging our youth successfully\, and other sacred rabbinic work are things we cannot and often do not want to do alone. In this session\, we will explore some of the tools of community organizing that help us build powerful relationships and partnerships within our congregations that enable us to act\, create\, and build together.
URL:http://boston.ccarnet.org/event/leading-with-and-not-alone-community-organizing-and-relational-power/
LOCATION:Gardner Room
CATEGORIES:Learning Block 3,PD 3,Professional Development,Tuesday, March 20th
END:VEVENT
BEGIN:VEVENT
DTSTART;TZID=America/Halifax:20120320T170000
DTEND;TZID=America/Halifax:20120320T181559
DTSTAMP:20260419T111019
CREATED:20120212T011136Z
LAST-MODIFIED:20120318T134345Z
UID:352-1332262800-1332267359@boston.ccarnet.org
SUMMARY:On-Camera Media Training for Rabbis (II)
DESCRIPTION:Dennis Ross and Sarah Standiford \nThis session requires pre-registration. Session is capped at 8 participants. \n“Should I take this interview? How do I craft my message and avoid tricky questions? What works on-camera?” Even a little media training helps clergy become more comfortable and effective on-camera\, in-print and on-air. This camera training session required attending the 10:30 AM session. Please sign up for the camera trainings with registration.
URL:http://boston.ccarnet.org/event/on-camera-media-training-for-rabbis-ii/
LOCATION:Board Room
CATEGORIES:Learning Block 3,PD 3,Professional Development,Tuesday, March 20th
END:VEVENT
BEGIN:VEVENT
DTSTART;TZID=America/Halifax:20120320T170000
DTEND;TZID=America/Halifax:20120320T181559
DTSTAMP:20260419T111019
CREATED:20120212T010808Z
LAST-MODIFIED:20120309T212545Z
UID:351-1332262800-1332267359@boston.ccarnet.org
SUMMARY:Enhancing Prayer with Technology
DESCRIPTION:Peter Levi\, Dan Medwin\, Ron Segal\n\nFrom stone tablets\, to parchment\, to bound and printed books\, Jews have been regular adopters of new technology for the purposes of study and worship.  Come learn the newest tools to more deeply engage our members in prayer and liturgy\, and to enhance our capabilities as facilitators of worship. \n\nVisual T’filah allows the possibility of embracing visual imagery and “midrash” in worship settings\, and lifts the faces and voices of the community.  Learn from colleagues about how it is being used in the field and how to bring it to your community.  We will also engage in a broader conversation about the power of visual imagery to convey ideas and emotions\, and how its use can positively effect our rabbinates.\niT’filah: The Mishkan T’filah app\, represents a significant step forward in the use of technology and its benefits for prayer.  Learn about its features and how to facilitate prayer and study through its offerings.  Also\, get a “sneak peek” at some of the ideas in consideration for future versions of the app\, and contribute your own ideas.
URL:http://boston.ccarnet.org/event/enhancing-prayer-with-technology/
LOCATION:Exeter Room
CATEGORIES:Learning Block 3,PD 3,Professional Development,Tuesday, March 20th
END:VEVENT
END:VCALENDAR